BEGIN:VCALENDAR
VERSION:2.0
PRODID:-//Contratero//ES
CALSCALE:GREGORIAN
METHOD:PUBLISH
BEGIN:VEVENT
UID:PA 173 HMS/2022@contratero.es
DTSTAMP:20260422T174340Z
DTSTART:20220916T235959
DTEND:20220917T005959
SUMMARY:Cierre: Servicio de apoyo digital y organizativo al contro
DESCRIPTION:Servicio de apoyo digital y organizativo al control de los recursos humanos y materiales con el objetivo de mejorar la eficiencia en el uso de los quirófanos del Hospital Universitario Miguel Servet d...\\n\\nOrganismo: Gerencia Sector Sanitario de Zaragoza 2\\n\\nVer en Contratero: https://contratero.es/contracts/PA 173 HMS/2022
URL:https://contratero.es/contracts/PA 173 HMS/2022
STATUS:CONFIRMED
BEGIN:VALARM
TRIGGER:-P1D
ACTION:DISPLAY
DESCRIPTION:Recordatorio: Servicio de apoyo digital y or
END:VALARM
END:VEVENT
END:VCALENDAR